BEGIN:VCALENDAR
VERSION:2.0
PRODID:-//Mamadêlê Foundation - ECPv6.15.20//NONSGML v1.0//EN
CALSCALE:GREGORIAN
METHOD:PUBLISH
X-WR-CALNAME:Mamadêlê Foundation
X-ORIGINAL-URL:https://www.mamadele.com/new
X-WR-CALDESC:Events for Mamadêlê Foundation
REFRESH-INTERVAL;VALUE=DURATION:PT1H
X-Robots-Tag:noindex
X-PUBLISHED-TTL:PT1H
BEGIN:VTIMEZONE
TZID:UTC
BEGIN:STANDARD
TZOFFSETFROM:+0000
TZOFFSETTO:+0000
TZNAME:UTC
DTSTART:20240101T000000
END:STANDARD
END:VTIMEZONE
BEGIN:VEVENT
DTSTART;TZID=UTC:20251205T170000
DTEND;TZID=UTC:20251205T220000
DTSTAMP:20260422T224449
CREATED:20251119T214735Z
LAST-MODIFIED:20251119T214735Z
UID:1265-1764954000-1764972000@www.mamadele.com
SUMMARY:Dendê & Band at Varanda Quabales
DESCRIPTION:
URL:https://www.mamadele.com/new/event/dende-band-at-varanda-quabales/
LOCATION:Varanda do Quabales\, Salvador\, Bahia\, Brazil
CATEGORIES:Dendê & Band
ATTACH;FMTTYPE=image/jpeg:https://www.mamadele.com/new/wp-content/uploads/2025/11/Screenshot_20251119-163145_Instagram.jpg
ORGANIZER;CN="Mamad%C3%AAl%C3%AA Foundation":MAILTO:mamadele@mamadele.org
END:VEVENT
END:VCALENDAR