BEGIN:VCALENDAR
VERSION:2.0
PRODID:-//Mamadêlê Foundation - ECPv6.15.20//NONSGML v1.0//EN
CALSCALE:GREGORIAN
METHOD:PUBLISH
X-WR-CALNAME:Mamadêlê Foundation
X-ORIGINAL-URL:https://www.mamadele.com/new
X-WR-CALDESC:Events for Mamadêlê Foundation
REFRESH-INTERVAL;VALUE=DURATION:PT1H
X-Robots-Tag:noindex
X-PUBLISHED-TTL:PT1H
BEGIN:VTIMEZONE
TZID:UTC
BEGIN:STANDARD
TZOFFSETFROM:+0000
TZOFFSETTO:+0000
TZNAME:UTC
DTSTART:20250101T000000
END:STANDARD
END:VTIMEZONE
BEGIN:VEVENT
DTSTART;TZID=UTC:20260220T150000
DTEND;TZID=UTC:20260220T170000
DTSTAMP:20260422T224104
CREATED:20260125T202631Z
LAST-MODIFIED:20260125T202631Z
UID:1350-1771599600-1771606800@www.mamadele.com
SUMMARY:Dende - Workshop de Sons Reciclados no Rio (Audio Rebel)
DESCRIPTION:
URL:https://www.mamadele.com/new/event/dende-workshop-de-sons-reciclados-no-rio-audio-rebel/
LOCATION:Audio Rebel\, R. Visc. de Silva\, Rio de Janeiro\, RJ\, 22271-091\, Brazil
ATTACH;FMTTYPE=image/jpeg:https://www.mamadele.com/new/wp-content/uploads/2026/01/Dende-Workshop-Rio-20.02.26.jpeg
END:VEVENT
END:VCALENDAR