BEGIN:VCALENDAR
VERSION:2.0
PRODID:-//Mamadêlê Foundation - ECPv6.15.20//NONSGML v1.0//EN
CALSCALE:GREGORIAN
METHOD:PUBLISH
X-WR-CALNAME:Mamadêlê Foundation
X-ORIGINAL-URL:https://www.mamadele.com/new
X-WR-CALDESC:Events for Mamadêlê Foundation
REFRESH-INTERVAL;VALUE=DURATION:PT1H
X-Robots-Tag:noindex
X-PUBLISHED-TTL:PT1H
BEGIN:VTIMEZONE
TZID:UTC
BEGIN:STANDARD
TZOFFSETFROM:+0000
TZOFFSETTO:+0000
TZNAME:UTC
DTSTART:20230101T000000
END:STANDARD
END:VTIMEZONE
BEGIN:VEVENT
DTSTART;TZID=UTC:20250213T213000
DTEND;TZID=UTC:20250213T233000
DTSTAMP:20260422T222055
CREATED:20250129T234809Z
LAST-MODIFIED:20250213T121245Z
UID:1158-1739482200-1739489400@www.mamadele.com
SUMMARY:Dendê & Banda na Varanda do SESI
DESCRIPTION:
URL:https://www.mamadele.com/new/event/dende-band/
LOCATION:Teatro SESI Rio Vermelho\, R. Borges dos Reis\, Rio Vermelho\, Salvado\, Bahia\, 41950\, Brazil
CATEGORIES:Dendê & Band
ATTACH;FMTTYPE=image/png:https://www.mamadele.com/new/wp-content/uploads/2025/01/Feb-13th-1.png
ORGANIZER;CN="Mamad%C3%AAl%C3%AA Foundation":MAILTO:mamadele@mamadele.org
END:VEVENT
BEGIN:VEVENT
DTSTART;TZID=UTC:20250202T080000
DTEND;TZID=UTC:20250202T170000
DTSTAMP:20260422T222055
CREATED:20241104T142639Z
LAST-MODIFIED:20241104T201011Z
UID:1101-1738483200-1738515600@www.mamadele.com
SUMMARY:Arrastão do Dendê at the Festa de Iemanjá
DESCRIPTION:  \n  \nAt the Festa de Iemanjá\, Arrastão do Dendê creates an electrifying experience on the shores of Bahia\, honoring the sea goddess with a musical procession filled with reverence and joy. Dendê and his ensemble bring a powerful fusion of Afro-Brazilian rhythms and Candomblé chants\, echoing across the waves in a heartfelt tribute to Iemanjá. Their drums pulse in sync with the flow of the ocean\, calling onlookers and worshippers alike into the rhythm of celebration. As they move along the beach\, the crowd joins in\, dancing and singing\, making offerings to the beloved Orixá. With every beat\, Arrastão do Dendê channels the spirit of the sea\, filling the air with devotion\, tradition\, and the boundless energy of Bahia’s culture.
URL:https://www.mamadele.com/new/event/arrastao-do-dende-at-the-festa-de-iemanja/
LOCATION:Bahia
CATEGORIES:Arrastão do Dendê
ATTACH;FMTTYPE=image/png:https://www.mamadele.com/new/wp-content/uploads/2024/11/Screenshot-2024-11-04-085715.png
END:VEVENT
BEGIN:VEVENT
DTSTART;TZID=UTC:20250119T190000
DTEND;TZID=UTC:20250119T210000
DTSTAMP:20260422T222055
CREATED:20250113T202622Z
LAST-MODIFIED:20250113T230536Z
UID:1136-1737313200-1737320400@www.mamadele.com
SUMMARY:Dendê & Banda
DESCRIPTION:  \n\n\n🎶✨ Summer vibes are here!\n\n\nJoin us on January 19th\, 2025\, for an unforgettable evening with Dendê & Banda and special guests! 🎤🎸\n\n\n \n\n\n📍 Where: Largo Quincas Berro D’Água\n\n\n🕒 When: 17hs-19hs (5–7 PM)\n\n\n🌞 Let’s celebrate the Summer Season 2025 with incredible music\, great energy\, and an amazing crowd.\n\n\n \n\n\n💛 Supported by #AmoPeloPelô and the Bahia Department of Culture. Don’t miss it! 🎉\n\n\n \n\n\n#LiveMusic #BahiaCulture #Dendê #SummerSeason\n\n\n📍 Onde: Largo Quincas Berro D’Água\n🕒 Quando: 17hs-19hs (5–7 PM)\n🌞 Vamos celebrar a Temporada de Verão 2025 com música incrível\, ótima energia e uma multidão maravilhosa. \n\n💛 Apoiado por #AmoPeloPelô e o Departamento de Cultura da Bahia. Não perca! 🎉
URL:https://www.mamadele.com/new/event/dende-banda/
LOCATION:Largo Quincas Berro D’Água\, R. do Açouguinho\, 2 - Pelourinho\, Salvador\, Bahia\, 40026\, Brazil
CATEGORIES:Dendê & Band
ORGANIZER;CN="Mamad%C3%AAl%C3%AA Foundation":MAILTO:mamadele@mamadele.org
END:VEVENT
BEGIN:VEVENT
DTSTART;TZID=UTC:20241206T213000
DTEND;TZID=UTC:20241206T233000
DTSTAMP:20260422T222055
CREATED:20241104T092926Z
LAST-MODIFIED:20241104T142951Z
UID:1092-1733520600-1733527800@www.mamadele.com
SUMMARY:Brazilian Fridays with Dendê & Band at World Cafe Live - Last one of the year!
DESCRIPTION:Viernes Calientes Dance Party\nBrazilian Fridays with Dendê & Band\n \nFriday\, December 06\, 2024 \n  \nDoors: 6pm | Show: 9:30pm \nThe Lounge at World Cafe Live \nGet ready to drink\, dine\, and dance the night away at our free first Friday dance party! The night kicks off at 8:30pm with a curated mix of Brazilian dance favorites to get you warmed up. Live music starts at 9:30pm with house group Dendê & Band\, showcasing their unique flavor of Afro-Brazilian\, Samba\, and Funk. Vamos dançar!\n\nAdmission is FREE! RSVP does not guarantee entry. To make a reservation and guarantee a seat\, click here or call 215-222-1400. \nVENUE INFO – PLEASE READ! \n\nYou must make a table reservation in addition to your RSVP to guarantee seating. Without a reservation\, seating will be first-come\, first-served if available. There is standing room by the bar area.\nThe Lounge is a full-service restaurant – our full food & drink menu is available when doors open.\nIf you require accessible seating\, please contact us at boxoffice@worldcafelive.com or 215-222-1400 prior to the show so we can best accommodate your needs.\nJoin the WCL Fan Club for priority entry\, food & merch discounts\, exclusive offers\, and more. Mega & Ultimate Fan levels include 24-hour presale access and no ticket fees.\nWorld Cafe Live is a nonprofit independent venue where artistry meets social impact. Every purchase helps support our music education & community programs.\nSee FAQ for more information.\n\nDendê\nDendê is a percussionist\, singer\, composer\, bandleader\, teacher\, and multi-instrumentalist. Heʼs been a professional musician since the age of 14\, when he appeared in the frontline of Timbalada\, Carlinhos Brownʼs superstar percussion ensemble. Since 2001\, heʼs been splitting his time between the US and Bahia\, working with his own ensembles. His flagship group\, Dendê & Band reflects the cross-section of his deep roots in traditions like samba de roda and Candomblé and his eclectic musical appetite for other global rhythms like rumba\, afrobeat and mbalax. Over the past two decades\, Dendê & Band have performed at the Glastonbury Festival in the UK\, Skirball Cultural Center in Los Angeles; the KW Latinfest in Canada; the Penang World Music Festival in Malaysia; the Kalalu Festival in Saint Lucia\, Summerdance and Old Town School in Chicago the Lincoln Center Atrium in NYC among many others.
URL:https://www.mamadele.com/new/event/brazilian-fridays-with-dende-band-at-world-cafe-live-last-one-of-the-year/
LOCATION:World Cafe Live\, 3025 Walnut St\, Philadelphia\, PA\, 19104\, United States
CATEGORIES:Dendê & Band
ATTACH;FMTTYPE=image/jpeg:https://www.mamadele.com/new/wp-content/uploads/2024/11/Brazilian_722811720617084.jpeg
END:VEVENT
BEGIN:VEVENT
DTSTART;TZID=UTC:20241004T200000
DTEND;TZID=UTC:20241004T233000
DTSTAMP:20260422T222055
CREATED:20241003T172237Z
LAST-MODIFIED:20241104T134819Z
UID:1061-1728072000-1728084600@www.mamadele.com
SUMMARY:Dende & Band at World Cafe Live
DESCRIPTION:
URL:https://www.mamadele.com/new/event/dende-band-at-world-cafe-live/
LOCATION:World Cafe Live\, 3025 Walnut St\, Philadelphia\, PA\, 19104\, United States
CATEGORIES:Dendê & Band
END:VEVENT
END:VCALENDAR