BEGIN:VCALENDAR
VERSION:2.0
PRODID:-//Mamadêlê Foundation - ECPv6.15.20//NONSGML v1.0//EN
CALSCALE:GREGORIAN
METHOD:PUBLISH
X-WR-CALNAME:Mamadêlê Foundation
X-ORIGINAL-URL:https://www.mamadele.com/new
X-WR-CALDESC:Events for Mamadêlê Foundation
REFRESH-INTERVAL;VALUE=DURATION:PT1H
X-Robots-Tag:noindex
X-PUBLISHED-TTL:PT1H
BEGIN:VTIMEZONE
TZID:UTC
BEGIN:STANDARD
TZOFFSETFROM:+0000
TZOFFSETTO:+0000
TZNAME:UTC
DTSTART:20250101T000000
END:STANDARD
END:VTIMEZONE
BEGIN:VEVENT
DTSTART;TZID=UTC:20260202T080000
DTEND;TZID=UTC:20260202T080000
DTSTAMP:20260423T035901
CREATED:20260125T160950Z
LAST-MODIFIED:20260125T160950Z
UID:1342-1770019200-1770019200@www.mamadele.com
SUMMARY:Arrastão do Dendê Reciclado at the Festa de Iemanjá
DESCRIPTION:At the Festa de Iemanjá\, Arrastão do Dendê creates an electrifying experience on the shores of Bahia\, honoring the sea goddess with a musical procession filled with reverence and joy. Dendê and his ensemble bring a powerful fusion of Afro-Brazilian rhythms and Candomblé chants\, echoing across the waves in a heartfelt tribute to Iemanjá. Their drums pulse in sync with the flow of the ocean\, calling onlookers and worshippers alike into the rhythm of celebration. As they move along the beach\, the crowd joins in\, dancing and singing\, making offerings to the beloved Orixá. With every beat\, Arrastão do Dendê channels the spirit of the sea\, filling the air with devotion\, tradition\, and the boundless energy of Bahia’s culture.
URL:https://www.mamadele.com/new/event/arrastao-do-dende-reciclado-at-the-festa-de-iemanja/
LOCATION:Bahia
CATEGORIES:Arrastão do Dendê,Recycled Sounds
ATTACH;FMTTYPE=image/jpeg:https://www.mamadele.com/new/wp-content/uploads/2026/01/Playfair-Font.jpg
END:VEVENT
END:VCALENDAR