BEGIN:VCALENDAR
VERSION:2.0
PRODID:-//Mamadêlê Foundation - ECPv6.15.20//NONSGML v1.0//EN
CALSCALE:GREGORIAN
METHOD:PUBLISH
X-WR-CALNAME:Mamadêlê Foundation
X-ORIGINAL-URL:https://www.mamadele.com/new
X-WR-CALDESC:Events for Mamadêlê Foundation
REFRESH-INTERVAL;VALUE=DURATION:PT1H
X-Robots-Tag:noindex
X-PUBLISHED-TTL:PT1H
BEGIN:VTIMEZONE
TZID:UTC
BEGIN:STANDARD
TZOFFSETFROM:+0000
TZOFFSETTO:+0000
TZNAME:UTC
DTSTART:20240101T000000
END:STANDARD
END:VTIMEZONE
BEGIN:VEVENT
DTSTART;VALUE=DATE:20250908
DTEND;VALUE=DATE:20251001
DTSTAMP:20260422T154856
CREATED:20250909T115412Z
LAST-MODIFIED:20250909T115500Z
UID:1200-1757289600-1759276799@www.mamadele.com
SUMMARY:Recycled Sounds Exhibit at the Allens Lane Art Center
DESCRIPTION:Dendê Macêdo\nRecycled Sounds\nSep 8 – Sep 27\, 2025 \n\nOpening Reception and Live Performance: Sep 14\, 4-6 pm\n\nAllens Lane Arts Center is  delighted to present Recycled Sounds\, a vibrant and thought-provoking exhibition by internationally acclaimed percussionist and instrument-maker Dendê Macêdo.\nMacêdo presents a striking collection ofinstruments handcrafted from found and repurposed materials. From a bucket shekere to a trash-can snare\, a golf-club berimbau to a fan-base drum\, each piece is an inventive fusion of rhythm\, sustainability\, and storytelling. These instruments don’t just make music\, they carry the history of the streets\, the hands that once used them\, and the new life breathed into them through sound.\n\n“When you give new life to an object\, you also change the way people listen.” — Dendê Macêdo\n\nBorn in Salvador\, Bahia\, Brazil\, and now based in Philadelphia\, Dendê Macêdo is a celebrated figure in Afro-Brazilian music. A former member of Timbalada\, co-founder of the MamadêlêFoundation\, and a global ambassador of samba de roda and Candomblé rhythms\, his work bridges cultures\, traditions\, and communities.\n\n\nFor more information visit: https://allenslane.org/exhibitions/
URL:https://www.mamadele.com/new/event/recycled-sounds-exhibit-at-the-allens-lane-art-center/
LOCATION:Bahia
CATEGORIES:Recycled Sounds
ATTACH;FMTTYPE=image/webp:https://www.mamadele.com/new/wp-content/uploads/2025/09/RecycledSoundsInvite.webp
END:VEVENT
END:VCALENDAR