BEGIN:VCALENDAR
VERSION:2.0
PRODID:-//Mamadêlê Foundation - ECPv6.15.20//NONSGML v1.0//EN
CALSCALE:GREGORIAN
METHOD:PUBLISH
X-ORIGINAL-URL:https://www.mamadele.com/new
X-WR-CALDESC:Events for Mamadêlê Foundation
REFRESH-INTERVAL;VALUE=DURATION:PT1H
X-Robots-Tag:noindex
X-PUBLISHED-TTL:PT1H
BEGIN:VTIMEZONE
TZID:UTC
BEGIN:STANDARD
TZOFFSETFROM:+0000
TZOFFSETTO:+0000
TZNAME:UTC
DTSTART:20240101T000000
END:STANDARD
END:VTIMEZONE
BEGIN:VEVENT
DTSTART;TZID=UTC:20250530T190000
DTEND;TZID=UTC:20250531T000000
DTSTAMP:20260422T141444
CREATED:20250425T200757Z
LAST-MODIFIED:20250425T200757Z
UID:1187-1748631600-1748649600@www.mamadele.com
SUMMARY:Dendê & Banda
DESCRIPTION:🎶✨ Temporada 2025 is here!\n\n\n \n\n\nJoin us on May 30th\, 2025\, for an unforgettable evening with Dendê & Banda and special guests!\n\n\n \n\n\n📍 Where: Largo Quincas Berro D’Água\n\n\n🕒 When: 19hs – 23hs (7 pm–12 am)\n\n\n🌞 Let’s celebrate Temporada 2025 with incredible music\, great energy\, and an amazing crowd.\n\n\n \n\n\n💛 Supported by #AmoPeloPelô and the Bahia Department of Culture. Don’t miss it! 🎉\n\n\n \n\n\n#LiveMusic #BahiaCulture #Dendê\n\n\n \n\n\n📍 Onde: Largo Quincas Berro D’Água\n\n\n🕒 Quando: 19hs – 23hs (7 pm–12 am)\n\n\n🌞 Vamos celebrar Temporada 2025 2025 com música incrível\, ótima energia e uma multidão maravilhosa.\n\n\n \n\n\n💛 Apoiado por #AmoPeloPelô e o Departamento de Cultura da Bahia. Não perca! 🎉
URL:https://www.mamadele.com/new/event/dende-banda-2/
LOCATION:Largo Quincas Berro D’Água\, R. do Açouguinho\, 2 - Pelourinho\, Salvador\, Bahia\, 40026\, Brazil
CATEGORIES:Dendê & Band
ATTACH;FMTTYPE=image/png:https://www.mamadele.com/new/wp-content/uploads/2025/04/30-DE-MAIO.png
ORGANIZER;CN="Mamad%C3%AAl%C3%AA Foundation":MAILTO:mamadele@mamadele.org
END:VEVENT
END:VCALENDAR